BEGIN:VCALENDAR
VERSION:2.0
PRODID:spatie/icalendar-generator
DESCRIPTION:Events from West Madison Bible Church
X-WR-CALDESC:Events from West Madison Bible Church
REFRESH-INTERVAL;VALUE=DURATION:PT1440M
X-PUBLISHED-TTL:PT1440M
BEGIN:VTIMEZONE
TZID:America/Chicago
BEGIN:STANDARD
DTSTART:20251102T020000Z
TZOFFSETFROM:-0500
TZOFFSETTO:-0600
END:STANDARD
BEGIN:DAYLIGHT
DTSTART:20260308T020000Z
TZOFFSETFROM:-0600
TZOFFSETTO:-0500
END:DAYLIGHT
END:VTIMEZONE
BEGIN:VTIMEZONE
TZID:UTC
BEGIN:STANDARD
DTSTART:20250729T195426Z
TZOFFSETFROM:+0000
TZOFFSETTO:+0000
END:STANDARD
END:VTIMEZONE
BEGIN:VEVENT
UID:1094-5
DTSTAMP:20260425T195426Z
SUMMARY:Bible Study
LOCATION:West Madison Bible Church 2898 Stony Ridge Cir  Verona WI 53593
ORGANIZER;CN=admin:MAILTO:aaronchurch@use.startmail.com
DTSTART;TZID=America/Chicago:20260425T093000
DTEND;TZID=America/Chicago:20260425T110000
X-ALT-DESC;FMTTYPE=TEXT/HTML:Bible Study Currently going through the book o
 f Revelation. 
CATEGORIES:Bible Study
URL;VALUE=URI:https://westmadisonbiblechurch.org/mc-events/bible-study/
METHOD:PUBLISH
END:VEVENT
END:VCALENDAR